BEGIN:VCALENDAR
VERSION:2.0
PRODID:-//wp-events-plugin.com//7.2.3.1//EN
BEGIN:VEVENT
UID:54@16ruedeplaisance.org
DTSTART;TZID=Europe/Paris;VALUE=DATE:20120901
DTEND;TZID=Europe/Paris;VALUE=DATE:20120902
DTSTAMP:20180417T121251Z
URL:https://www.16ruedeplaisance.org/evenements/le-son-de-la-seve-27/
SUMMARY:Le Son de la Sève
DESCRIPTION:
ATTACH;FMTTYPE=image/jpeg:https://www.16ruedeplaisance.org/wp-content/uplo
 ads/2017/11/4-arbres-compressé.jpg
CATEGORIES:Benoit Sicat
LOCATION:Fête Agri-culturelle\, parc\, Azé\, France
GEO:46.4389677;4.76078050000001
X-APPLE-STRUCTURED-LOCATION;VALUE=URI;X-ADDRESS=parc\, Azé\, France;X-APPL
 E-RADIUS=100;X-TITLE=Fête Agri-culturelle:geo:46.4389677,4.76078050000001
END:VEVENT
BEGIN:VTIMEZONE
TZID:Europe/Paris
X-LIC-LOCATION:Europe/Paris
BEGIN:DAYLIGHT
DTSTART:20120325T030000
TZOFFSETFROM:+0100
TZOFFSETTO:+0200
TZNAME:CEST
END:DAYLIGHT
END:VTIMEZONE
END:VCALENDAR