BEGIN:VCALENDAR
VERSION:2.0
PRODID:-//wp-events-plugin.com//7.2.3.1//EN
BEGIN:VEVENT
UID:55@16ruedeplaisance.org
DTSTART;TZID=Europe/Paris;VALUE=DATE:20120720
DTEND;TZID=Europe/Paris;VALUE=DATE:20120723
DTSTAMP:20180417T121716Z
URL:https://www.16ruedeplaisance.org/evenements/le-son-de-la-seve-28/
SUMMARY:Le Son de la Sève
DESCRIPTION:
ATTACH;FMTTYPE=image/jpeg:https://www.16ruedeplaisance.org/wp-content/uplo
 ads/2017/11/4-arbres-compressé.jpg
CATEGORIES:Benoit Sicat
LOCATION:Festival Les Has’arts fortuits\, Parc\, L'Aigle\, 61\, France
GEO:48.7775975;0.5987013999999817
X-APPLE-STRUCTURED-LOCATION;VALUE=URI;X-ADDRESS=Parc\, L'Aigle\, 61\, Franc
 e;X-APPLE-RADIUS=100;X-TITLE=Festival Les Has’arts fortuits:geo:48.77759
 75,0.5987013999999817
END:VEVENT
BEGIN:VTIMEZONE
TZID:Europe/Paris
X-LIC-LOCATION:Europe/Paris
BEGIN:DAYLIGHT
DTSTART:20120325T030000
TZOFFSETFROM:+0100
TZOFFSETTO:+0200
TZNAME:CEST
END:DAYLIGHT
END:VTIMEZONE
END:VCALENDAR