BEGIN:VCALENDAR
VERSION:2.0
PRODID:-//wp-events-plugin.com//7.2.3.1//EN
BEGIN:VEVENT
UID:118@16ruedeplaisance.org
DTSTART;TZID=Europe/Paris;VALUE=DATE:20180721
DTEND;TZID=Europe/Paris;VALUE=DATE:20180722
DTSTAMP:20180620T081627Z
URL:https://www.16ruedeplaisance.org/evenements/le-son-de-la-seve-30/
SUMMARY:Le Son de la sève
DESCRIPTION:
ATTACH;FMTTYPE=image/jpeg:https://www.16ruedeplaisance.org/wp-content/uplo
 ads/2017/11/4-arbres-compressé.jpg
CATEGORIES:Benoit Sicat
LOCATION:Jardin d'Héol\, 38 rue des Cèdres\, Concarneau\, France
GEO:47.8836233;-3.9169127000000117
X-APPLE-STRUCTURED-LOCATION;VALUE=URI;X-ADDRESS=38 rue des Cèdres\, Concar
 neau\, France;X-APPLE-RADIUS=100;X-TITLE=Jardin d'Héol:geo:47.8836233,-3.
 9169127000000117
END:VEVENT
BEGIN:VTIMEZONE
TZID:Europe/Paris
X-LIC-LOCATION:Europe/Paris
BEGIN:DAYLIGHT
DTSTART:20180325T030000
TZOFFSETFROM:+0100
TZOFFSETTO:+0200
TZNAME:CEST
END:DAYLIGHT
END:VTIMEZONE
END:VCALENDAR