BEGIN:VCALENDAR
VERSION:2.0
PRODID:-//wp-events-plugin.com//7.2.3.1//EN
BEGIN:VEVENT
UID:206@16ruedeplaisance.org
DTSTART;TZID=Europe/Paris;VALUE=DATE:20190608
DTEND;TZID=Europe/Paris;VALUE=DATE:20190609
DTSTAMP:20190214T120553Z
URL:https://www.16ruedeplaisance.org/evenements/le-son-de-la-seve-31/
SUMMARY:Le Son de la Sève
DESCRIPTION:
ATTACH;FMTTYPE=image/jpeg:https://www.16ruedeplaisance.org/wp-content/uplo
 ads/2017/11/4-arbres-compressé.jpg
CATEGORIES:Benoit Sicat
LOCATION:Bibliothèque du Landry\, Parc du Landry\, Rennes\, France
GEO:48.0974655;-1.6445750999999973
X-APPLE-STRUCTURED-LOCATION;VALUE=URI;X-ADDRESS=Parc du Landry\, Rennes\, F
 rance;X-APPLE-RADIUS=100;X-TITLE=Bibliothèque du Landry:geo:48.0974655,-1
 .6445750999999973
END:VEVENT
BEGIN:VTIMEZONE
TZID:Europe/Paris
X-LIC-LOCATION:Europe/Paris
BEGIN:DAYLIGHT
DTSTART:20190331T030000
TZOFFSETFROM:+0100
TZOFFSETTO:+0200
TZNAME:CEST
END:DAYLIGHT
END:VTIMEZONE
END:VCALENDAR