BEGIN:VCALENDAR
VERSION:2.0
PRODID:-//wp-events-plugin.com//7.2.3.1//EN
BEGIN:VEVENT
UID:220@16ruedeplaisance.org
DTSTART;TZID=Europe/Paris;VALUE=DATE:20191016
DTEND;TZID=Europe/Paris;VALUE=DATE:20191020
DTSTAMP:20190723T152354Z
URL:https://www.16ruedeplaisance.org/evenements/le-son-de-la-seve-32/
SUMMARY:Le Son de la Sève
DESCRIPTION:
ATTACH;FMTTYPE=image/jpeg:https://www.16ruedeplaisance.org/wp-content/uplo
 ads/2017/11/4-arbres-compressé.jpg
CATEGORIES:Benoit Sicat
LOCATION:Maison du Théâtre\, 12 Rue Claude Goasdoue\, Brest\, France
GEO:48.41499839999999;-4.493492999999944
X-APPLE-STRUCTURED-LOCATION;VALUE=URI;X-ADDRESS=12 Rue Claude Goasdoue\, Br
 est\, France;X-APPLE-RADIUS=100;X-TITLE=Maison du Théâtre:geo:48.4149983
 9999999,-4.493492999999944
END:VEVENT
BEGIN:VTIMEZONE
TZID:Europe/Paris
X-LIC-LOCATION:Europe/Paris
BEGIN:DAYLIGHT
DTSTART:20190331T030000
TZOFFSETFROM:+0100
TZOFFSETTO:+0200
TZNAME:CEST
END:DAYLIGHT
END:VTIMEZONE
END:VCALENDAR