BEGIN:VCALENDAR
VERSION:2.0
PRODID:-//wp-events-plugin.com//7.2.3.1//EN
BEGIN:VEVENT
UID:267@16ruedeplaisance.org
DTSTART;TZID=Europe/Paris:20210919T140000
DTEND;TZID=Europe/Paris:20210919T184500
DTSTAMP:20210906T094950Z
URL:https://www.16ruedeplaisance.org/evenements/le-son-de-la-seve-33/
SUMMARY:Le son de la sève
DESCRIPTION:Le spectacle est invité dans le cadre de l'exposition "Poudres
  et forêt" de la collection départementale d'art contemporain\,\n\nexpos
 ition qui se tient au Pavillon Maurouard\, le spectacle aura lieu devant l
 e pavillon\,\n\nIl y aura 3 séances : 14h / 16h et 18h\n\nL'entrée est l
 ibre\n\nJauge limitée à 30 personnes.
ATTACH;FMTTYPE=image/jpeg:https://www.16ruedeplaisance.org/wp-content/uplo
 ads/2021/09/LSDLS-VuedEnsemble.jpg
CATEGORIES:Benoit Sicat
LOCATION:Parc de la Poudrerie\, 1\, allée Eugène Burlot\, Vaujours\, 9341
 0\, Ile de France\, France
X-APPLE-STRUCTURED-LOCATION;VALUE=URI;X-ADDRESS=1\, allée Eugène Burlot\,
  Vaujours\, 93410\, Ile de France\, France;X-APPLE-RADIUS=100;X-TITLE=Parc
  de la Poudrerie:geo:0,0
END:VEVENT
BEGIN:VTIMEZONE
TZID:Europe/Paris
X-LIC-LOCATION:Europe/Paris
BEGIN:DAYLIGHT
DTSTART:20210328T030000
TZOFFSETFROM:+0100
TZOFFSETTO:+0200
TZNAME:CEST
END:DAYLIGHT
END:VTIMEZONE
END:VCALENDAR