BEGIN:VCALENDAR
VERSION:2.0
PRODID:-//wp-events-plugin.com//7.2.3.1//EN
BEGIN:VEVENT
UID:268@16ruedeplaisance.org
DTSTART;TZID=Europe/Paris:20210925T160000
DTEND;TZID=Europe/Paris:20210926T184500
DTSTAMP:20210906T095506Z
URL:https://www.16ruedeplaisance.org/evenements/le-son-de-la-seve-34/
SUMMARY:Le son de la sève
DESCRIPTION:Dans le cadre des Portes Ouvertes de Rennes Métropole\,\n\nnou
 s jouerons le spectacle dans notre lieu associatif\,\n\nLieu-dit La Maison
  Neuve sur la route des Champs Rôtis qui mène à Pacé\,\n\n&nbsp\;\n\n&
 nbsp\;
ATTACH;FMTTYPE=image/jpeg:https://www.16ruedeplaisance.org/wp-content/uplo
 ads/2017/10/Avec-Jimmy-et-Pom-Pom.jpg
CATEGORIES:Benoit Sicat
LOCATION:La Maison Neuve\, Route des champs rotis\, Rennes\, 35000\, France
X-APPLE-STRUCTURED-LOCATION;VALUE=URI;X-ADDRESS=Route des champs rotis\, Re
 nnes\, 35000\, France;X-APPLE-RADIUS=100;X-TITLE=La Maison Neuve:geo:0,0
END:VEVENT
BEGIN:VTIMEZONE
TZID:Europe/Paris
X-LIC-LOCATION:Europe/Paris
BEGIN:DAYLIGHT
DTSTART:20210328T030000
TZOFFSETFROM:+0100
TZOFFSETTO:+0200
TZNAME:CEST
END:DAYLIGHT
END:VTIMEZONE
END:VCALENDAR