BEGIN:VCALENDAR
VERSION:2.0
PRODID:-//wp-events-plugin.com//7.2.3.1//EN
BEGIN:VEVENT
UID:270@16ruedeplaisance.org
DTSTART;TZID=Europe/Paris;VALUE=DATE:20211009
DTEND;TZID=Europe/Paris;VALUE=DATE:20211012
DTSTAMP:20211001T070152Z
URL:https://www.16ruedeplaisance.org/evenements/le-son-de-la-seve-35/
SUMMARY:Le son de la sève
DESCRIPTION:Programmation du spectacle dans le cadre de l'événement "Le t
 emps de l'arbre" organisé par Trés Tôt Théâtre.\n\nSamedi 9 octobre 2
 021 à 10h30\, 11h30\, 15h30 et 16h30 (tout public)\n\nDimanche 10 octobre
  2021 à 10h30\, 11h30 et 16h (tout public)\n\nLundi 11 octobre 2021 à 10
 h\, 11h et 15h30 (scolaires)
ATTACH;FMTTYPE=image/jpeg:https://www.16ruedeplaisance.org/wp-content/uplo
 ads/2021/09/LSDLS-VuedEnsemble.jpg
CATEGORIES:Benoit Sicat
LOCATION:Très Tôt Théâtre\, Pôle Culturel Max Jacob4\, Boulevard Duple
 ix\, Quimper\, France
GEO:47.9946792;-4.098387399999979
X-APPLE-STRUCTURED-LOCATION;VALUE=URI;X-ADDRESS=Pôle Culturel Max Jacob4\,
  Boulevard Dupleix\, Quimper\, France;X-APPLE-RADIUS=100;X-TITLE=Très Tô
 t Théâtre:geo:47.9946792,-4.098387399999979
END:VEVENT
BEGIN:VTIMEZONE
TZID:Europe/Paris
X-LIC-LOCATION:Europe/Paris
BEGIN:DAYLIGHT
DTSTART:20210328T030000
TZOFFSETFROM:+0100
TZOFFSETTO:+0200
TZNAME:CEST
END:DAYLIGHT
END:VTIMEZONE
END:VCALENDAR