BEGIN:VCALENDAR
VERSION:2.0
PRODID:-//wp-events-plugin.com//7.2.3.1//EN
BEGIN:VEVENT
UID:275@16ruedeplaisance.org
DTSTART;TZID=Europe/Paris:20220330T100000
DTEND;TZID=Europe/Paris:20220330T160000
DTSTAMP:20211203T152001Z
URL:https://www.16ruedeplaisance.org/evenements/le-son-de-la-seve-36/
SUMMARY:Le son de la sève
DESCRIPTION:
ATTACH;FMTTYPE=image/jpeg:https://www.16ruedeplaisance.org/wp-content/uplo
 ads/2021/09/LSDLS-VuedEnsemble.jpg
CATEGORIES:Benoit Sicat
LOCATION:Le Dôme\, 1 Rue des Droits de l'Homme\, Saint Avé\, France
GEO:47.691789;-2.7437982000000147
X-APPLE-STRUCTURED-LOCATION;VALUE=URI;X-ADDRESS=1 Rue des Droits de l'Homme
 \, Saint Avé\, France;X-APPLE-RADIUS=100;X-TITLE=Le Dôme:geo:47.691789,-
 2.7437982000000147
END:VEVENT
BEGIN:VTIMEZONE
TZID:Europe/Paris
X-LIC-LOCATION:Europe/Paris
BEGIN:DAYLIGHT
DTSTART:20220327T030000
TZOFFSETFROM:+0100
TZOFFSETTO:+0200
TZNAME:CEST
END:DAYLIGHT
END:VTIMEZONE
END:VCALENDAR