BEGIN:VCALENDAR
VERSION:2.0
PRODID:-//wp-events-plugin.com//7.2.3.1//EN
BEGIN:VEVENT
UID:278@16ruedeplaisance.org
DTSTART;TZID=Europe/Paris:20220319T110000
DTEND;TZID=Europe/Paris:20220323T180000
DTSTAMP:20220114T132800Z
URL:https://www.16ruedeplaisance.org/evenements/le-son-de-la-seve-37/
SUMMARY:Le son de la sève
DESCRIPTION:FESTIVAL STARKE STUCKE\, le spectacle jouera en version extéri
 eure à Francfort les 19 et 20 mars 2022 et à Darmstadt les 22 et 23 mars
  2022\, organisé par Theaterhaus : https://www.theaterhaus-frankfurt.de/h
 ome.html\n\n&nbsp\;
ATTACH;FMTTYPE=image/jpeg:https://www.16ruedeplaisance.org/wp-content/uplo
 ads/2021/09/LSDLS-VuedEnsemble.jpg
CATEGORIES:Benoit Sicat
LOCATION:Theaterhaus Frankfurt\, Schützenstrasse 12\, Frankfurt Am Main\, 
 60311\, Allemagne
X-APPLE-STRUCTURED-LOCATION;VALUE=URI;X-ADDRESS=Schützenstrasse 12\, Frank
 furt Am Main\, 60311\, Allemagne;X-APPLE-RADIUS=100;X-TITLE=Theaterhaus Fr
 ankfurt:geo:0,0
END:VEVENT
BEGIN:VTIMEZONE
TZID:Europe/Paris
X-LIC-LOCATION:Europe/Paris
BEGIN:STANDARD
DTSTART:20211031T020000
TZOFFSETFROM:+0200
TZOFFSETTO:+0100
TZNAME:CET
END:STANDARD
END:VTIMEZONE
END:VCALENDAR