BEGIN:VCALENDAR
VERSION:2.0
PRODID:-//wp-events-plugin.com//7.2.3.1//EN
BEGIN:VEVENT
UID:296@16ruedeplaisance.org
DTSTART;TZID=Europe/Paris:20220513T100000
DTEND;TZID=Europe/Paris:20220514T180000
DTSTAMP:20220826T073738Z
URL:https://www.16ruedeplaisance.org/evenements/le-son-de-la-seve-39/
SUMMARY:Le son de la sève
DESCRIPTION:
ATTACH;FMTTYPE=image/jpeg:https://www.16ruedeplaisance.org/wp-content/uplo
 ads/2021/09/LSDLS-VuedEnsemble.jpg
CATEGORIES:Benoit Sicat
LOCATION:Parc Paysager\, Avenue François Mitterrand\, Saint-Nazaire\, Fran
 ce
GEO:47.269444;-2.227851
X-APPLE-STRUCTURED-LOCATION;VALUE=URI;X-ADDRESS=Avenue François Mitterrand
 \, Saint-Nazaire\, France;X-APPLE-RADIUS=100;X-TITLE=Parc Paysager:geo:47.
 269444,-2.227851
END:VEVENT
BEGIN:VTIMEZONE
TZID:Europe/Paris
X-LIC-LOCATION:Europe/Paris
BEGIN:DAYLIGHT
DTSTART:20220327T030000
TZOFFSETFROM:+0100
TZOFFSETTO:+0200
TZNAME:CEST
END:DAYLIGHT
END:VTIMEZONE
END:VCALENDAR