BEGIN:VCALENDAR
VERSION:2.0
PRODID:-//wp-events-plugin.com//7.2.3.1//EN
BEGIN:VEVENT
UID:31@16ruedeplaisance.org
DTSTART;TZID=Europe/Paris;VALUE=DATE:20170930
DTEND;TZID=Europe/Paris;VALUE=DATE:20171002
DTSTAMP:20180417T082351Z
URL:https://www.16ruedeplaisance.org/evenements/le-son-de-la-seve-4/
SUMMARY:Le Son de la Sève
DESCRIPTION:
ATTACH;FMTTYPE=image/jpeg:https://www.16ruedeplaisance.org/wp-content/uplo
 ads/2017/11/4-arbres-compressé.jpg
CATEGORIES:Benoit Sicat
LOCATION:Théâtre MASSALIA\, 41 Rue Jobin\, Marseille\, 13003\, France
GEO:43.311415;5.3903150999999525
X-APPLE-STRUCTURED-LOCATION;VALUE=URI;X-ADDRESS=41 Rue Jobin\, Marseille\, 
 13003\, France;X-APPLE-RADIUS=100;X-TITLE=Théâtre MASSALIA:geo:43.311415
 ,5.3903150999999525
END:VEVENT
BEGIN:VTIMEZONE
TZID:Europe/Paris
X-LIC-LOCATION:Europe/Paris
BEGIN:DAYLIGHT
DTSTART:20170326T030000
TZOFFSETFROM:+0100
TZOFFSETTO:+0200
TZNAME:CEST
END:DAYLIGHT
END:VTIMEZONE
END:VCALENDAR