BEGIN:VCALENDAR
VERSION:2.0
PRODID:-//wp-events-plugin.com//7.2.3.1//EN
BEGIN:VEVENT
UID:297@16ruedeplaisance.org
DTSTART;TZID=Europe/Paris:20220423T100000
DTEND;TZID=Europe/Paris:20220424T170000
DTSTAMP:20220826T074140Z
URL:https://www.16ruedeplaisance.org/evenements/le-son-de-la-seve-40/
SUMMARY:Le son de la sève
DESCRIPTION:
ATTACH;FMTTYPE=image/jpeg:https://www.16ruedeplaisance.org/wp-content/uplo
 ads/2021/09/LSDLS-VuedEnsemble.jpg
CATEGORIES:Benoit Sicat
LOCATION:Kampnagel\, Jarrestrasse 20\, Hambourg\, Allemagne
GEO:53.584087;10.023185
X-APPLE-STRUCTURED-LOCATION;VALUE=URI;X-ADDRESS=Jarrestrasse 20\, Hambourg\
 , Allemagne;X-APPLE-RADIUS=100;X-TITLE=Kampnagel:geo:53.584087,10.023185
END:VEVENT
BEGIN:VTIMEZONE
TZID:Europe/Paris
X-LIC-LOCATION:Europe/Paris
BEGIN:DAYLIGHT
DTSTART:20220327T030000
TZOFFSETFROM:+0100
TZOFFSETTO:+0200
TZNAME:CEST
END:DAYLIGHT
END:VTIMEZONE
END:VCALENDAR