BEGIN:VCALENDAR
VERSION:2.0
PRODID:-//wp-events-plugin.com//7.2.3.1//EN
BEGIN:VEVENT
UID:327@16ruedeplaisance.org
DTSTART;TZID=Europe/Paris:20230616T183000
DTEND;TZID=Europe/Paris:20230616T191500
DTSTAMP:20230509T084619Z
URL:https://www.16ruedeplaisance.org/evenements/le-son-de-la-seve-41/
SUMMARY:Le son de la sève
DESCRIPTION:
ATTACH;FMTTYPE=image/jpeg:https://www.16ruedeplaisance.org/wp-content/uplo
 ads/2021/09/LSDLS-VuedEnsemble.jpg
CATEGORIES:Benoit Sicat
LOCATION:Domaine de la Roche\, Chemin du Château de la Roche\, Cerisay\, 7
 9140\, France
GEO:46.818992;-0.664114
X-APPLE-STRUCTURED-LOCATION;VALUE=URI;X-ADDRESS=Chemin du Château de la Ro
 che\, Cerisay\, 79140\, France;X-APPLE-RADIUS=100;X-TITLE=Domaine de la Ro
 che:geo:46.818992,-0.664114
END:VEVENT
BEGIN:VTIMEZONE
TZID:Europe/Paris
X-LIC-LOCATION:Europe/Paris
BEGIN:DAYLIGHT
DTSTART:20230326T030000
TZOFFSETFROM:+0100
TZOFFSETTO:+0200
TZNAME:CEST
END:DAYLIGHT
END:VTIMEZONE
END:VCALENDAR