BEGIN:VCALENDAR
VERSION:2.0
PRODID:-//wp-events-plugin.com//7.2.3.1//EN
BEGIN:VEVENT
UID:335@16ruedeplaisance.org
DTSTART;TZID=Europe/Paris:20230603T150000
DTEND;TZID=Europe/Paris:20230604T170000
DTSTAMP:20230509T084236Z
URL:https://www.16ruedeplaisance.org/evenements/le-son-de-la-seve-42/
SUMMARY:Le son de la sève
DESCRIPTION:Dans le cadre de la 20ème édition des Rendez-vous au jardin.
ATTACH;FMTTYPE=image/jpeg:https://www.16ruedeplaisance.org/wp-content/uplo
 ads/2021/09/LSDLS-VuedEnsemble.jpg
CATEGORIES:Benoit Sicat
LOCATION:Domaine de Kerguéhennec\, Domaine de Kerguéhennec\, Bignan\, 565
 00\, France
GEO:47.8858932;-2.7343574000000217
X-APPLE-STRUCTURED-LOCATION;VALUE=URI;X-ADDRESS=Domaine de Kerguéhennec\, 
 Bignan\, 56500\, France;X-APPLE-RADIUS=100;X-TITLE=Domaine de Kerguéhenne
 c:geo:47.8858932,-2.7343574000000217
END:VEVENT
BEGIN:VTIMEZONE
TZID:Europe/Paris
X-LIC-LOCATION:Europe/Paris
BEGIN:DAYLIGHT
DTSTART:20230326T030000
TZOFFSETFROM:+0100
TZOFFSETTO:+0200
TZNAME:CEST
END:DAYLIGHT
END:VTIMEZONE
END:VCALENDAR