BEGIN:VCALENDAR
VERSION:2.0
PRODID:-//wp-events-plugin.com//7.2.3.1//EN
BEGIN:VEVENT
UID:356@16ruedeplaisance.org
DTSTART;TZID=Europe/Paris:20231025T103000
DTEND;TZID=Europe/Paris:20231025T171500
DTSTAMP:20231019T150236Z
URL:https://www.16ruedeplaisance.org/evenements/le-son-de-la-seve-44/
SUMMARY:Benoît Sicat - Le son de la sève
DESCRIPTION:Trois séances à 10h30\, 14h30 et 16h. Le spectacle aura lieu 
 au parc de Huting ou à l'école Eric Tabarly si le temps est pluvieux.\n\
 nGratuit sur réservations auprès du CMPS d'Auray\, 19 rue Auguste La Hou
 lle : 02 97 50 81 50
ATTACH;FMTTYPE=image/jpeg:https://www.16ruedeplaisance.org/wp-content/uplo
 ads/2021/09/LSDLS-VuedEnsemble.jpg
CATEGORIES:Benoit Sicat
LOCATION:espace jeunesse\, rue Auguste La Houlle\, Auray\, France
GEO:47.670454;-2.997539
X-APPLE-STRUCTURED-LOCATION;VALUE=URI;X-ADDRESS=rue Auguste La Houlle\, Aur
 ay\, France;X-APPLE-RADIUS=100;X-TITLE=espace jeunesse:geo:47.670454,-2.99
 7539
END:VEVENT
BEGIN:VTIMEZONE
TZID:Europe/Paris
X-LIC-LOCATION:Europe/Paris
BEGIN:DAYLIGHT
DTSTART:20230326T030000
TZOFFSETFROM:+0100
TZOFFSETTO:+0200
TZNAME:CEST
END:DAYLIGHT
END:VTIMEZONE
END:VCALENDAR