BEGIN:VCALENDAR
VERSION:2.0
PRODID:-//wp-events-plugin.com//7.2.3.1//EN
BEGIN:VEVENT
UID:32@16ruedeplaisance.org
DTSTART;TZID=Europe/Paris;VALUE=DATE:20170801
DTEND;TZID=Europe/Paris;VALUE=DATE:20170802
DTSTAMP:20180417T082844Z
URL:https://www.16ruedeplaisance.org/evenements/le-son-de-la-seve-5/
SUMMARY:Le Son de la Sève
DESCRIPTION:
ATTACH;FMTTYPE=image/jpeg:https://www.16ruedeplaisance.org/wp-content/uplo
 ads/2017/11/4-arbres-compressé.jpg
CATEGORIES:Benoit Sicat
LOCATION:Service culturel\, Site du Hénan\, Nevez\, Bretagne\, 29920\, Fra
 nce
GEO:47.81916700000001;-3.7925800000000436
X-APPLE-STRUCTURED-LOCATION;VALUE=URI;X-ADDRESS=Site du Hénan\, Nevez\, Br
 etagne\, 29920\, France;X-APPLE-RADIUS=100;X-TITLE=Service culturel:geo:47
 .81916700000001,-3.7925800000000436
END:VEVENT
BEGIN:VTIMEZONE
TZID:Europe/Paris
X-LIC-LOCATION:Europe/Paris
BEGIN:DAYLIGHT
DTSTART:20170326T030000
TZOFFSETFROM:+0100
TZOFFSETTO:+0200
TZNAME:CEST
END:DAYLIGHT
END:VTIMEZONE
END:VCALENDAR