BEGIN:VCALENDAR
VERSION:2.0
PRODID:-//wp-events-plugin.com//7.2.3.1//EN
BEGIN:VEVENT
UID:33@16ruedeplaisance.org
DTSTART;TZID=Europe/Paris;VALUE=DATE:20170329
DTEND;TZID=Europe/Paris;VALUE=DATE:20170401
DTSTAMP:20180417T083138Z
URL:https://www.16ruedeplaisance.org/evenements/le-son-de-la-seve-6/
SUMMARY:Le Son de la Sève
DESCRIPTION:
ATTACH;FMTTYPE=image/jpeg:https://www.16ruedeplaisance.org/wp-content/uplo
 ads/2017/11/4-arbres-compressé.jpg
CATEGORIES:Benoit Sicat
LOCATION:La Méridienne - Festival FACTO\, 36 rue de Lorraine\, Lunéville\
 , 54300\, France
GEO:48.5934502;6.493572999999969
X-APPLE-STRUCTURED-LOCATION;VALUE=URI;X-ADDRESS=36 rue de Lorraine\, Lunév
 ille\, 54300\, France;X-APPLE-RADIUS=100;X-TITLE=La Méridienne - Festival
  FACTO:geo:48.5934502,6.493572999999969
END:VEVENT
BEGIN:VTIMEZONE
TZID:Europe/Paris
X-LIC-LOCATION:Europe/Paris
BEGIN:DAYLIGHT
DTSTART:20170326T030000
TZOFFSETFROM:+0100
TZOFFSETTO:+0200
TZNAME:CEST
END:DAYLIGHT
END:VTIMEZONE
END:VCALENDAR