BEGIN:VCALENDAR
VERSION:2.0
PRODID:-//wp-events-plugin.com//7.2.3.1//EN
BEGIN:VEVENT
UID:34@16ruedeplaisance.org
DTSTART;TZID=Europe/Paris;VALUE=DATE:20170325
DTEND;TZID=Europe/Paris;VALUE=DATE:20170327
DTSTAMP:20180417T083347Z
URL:https://www.16ruedeplaisance.org/evenements/le-son-de-la-seve-7/
SUMMARY:Le Son de la Sève
DESCRIPTION:
ATTACH;FMTTYPE=image/jpeg:https://www.16ruedeplaisance.org/wp-content/uplo
 ads/2017/11/4-arbres-compressé.jpg
CATEGORIES:Benoit Sicat
LOCATION:Big Bang Festival\, Kampnagel\, Hambourg\, Allemagne
GEO:53.58355;10.02202699999998
X-APPLE-STRUCTURED-LOCATION;VALUE=URI;X-ADDRESS=Kampnagel\, Hambourg\, Alle
 magne;X-APPLE-RADIUS=100;X-TITLE=Big Bang Festival:geo:53.58355,10.0220269
 9999998
END:VEVENT
BEGIN:VTIMEZONE
TZID:Europe/Paris
X-LIC-LOCATION:Europe/Paris
BEGIN:STANDARD
DTSTART:20161030T020000
TZOFFSETFROM:+0200
TZOFFSETTO:+0100
TZNAME:CET
END:STANDARD
BEGIN:DAYLIGHT
DTSTART:20170326T030000
TZOFFSETFROM:+0100
TZOFFSETTO:+0200
TZNAME:CEST
END:DAYLIGHT
END:VTIMEZONE
END:VCALENDAR