BEGIN:VCALENDAR
VERSION:2.0
PRODID:-//wp-events-plugin.com//7.2.3.1//EN
BEGIN:VEVENT
UID:35@16ruedeplaisance.org
DTSTART;TZID=Europe/Paris;VALUE=DATE:20160524
DTEND;TZID=Europe/Paris;VALUE=DATE:20160526
DTSTAMP:20180417T083737Z
URL:https://www.16ruedeplaisance.org/evenements/le-son-de-la-seve-8/
SUMMARY:Le Son de la Sève
DESCRIPTION:
ATTACH;FMTTYPE=image/jpeg:https://www.16ruedeplaisance.org/wp-content/uplo
 ads/2017/11/4-arbres-compressé.jpg
CATEGORIES:Benoit Sicat
LOCATION:La Balise\, Kervénanec\, Lorient\, 56000\, France
GEO:47.73753079999999;-3.391879700000004
X-APPLE-STRUCTURED-LOCATION;VALUE=URI;X-ADDRESS=Kervénanec\, Lorient\, 560
 00\, France;X-APPLE-RADIUS=100;X-TITLE=La Balise:geo:47.73753079999999,-3.
 391879700000004
END:VEVENT
BEGIN:VTIMEZONE
TZID:Europe/Paris
X-LIC-LOCATION:Europe/Paris
BEGIN:DAYLIGHT
DTSTART:20160327T030000
TZOFFSETFROM:+0100
TZOFFSETTO:+0200
TZNAME:CEST
END:DAYLIGHT
END:VTIMEZONE
END:VCALENDAR