BEGIN:VCALENDAR
VERSION:2.0
PRODID:-//wp-events-plugin.com//7.2.3.1//EN
BEGIN:VEVENT
UID:36@16ruedeplaisance.org
DTSTART;TZID=Europe/Paris;VALUE=DATE:20170520
DTEND;TZID=Europe/Paris;VALUE=DATE:20170521
DTSTAMP:20180417T084528Z
URL:https://www.16ruedeplaisance.org/evenements/le-son-de-la-seve-9/
SUMMARY:Le Son de la Sève
DESCRIPTION:
ATTACH;FMTTYPE=image/jpeg:https://www.16ruedeplaisance.org/wp-content/uplo
 ads/2017/11/4-arbres-compressé.jpg
CATEGORIES:Benoit Sicat
LOCATION:Teatro Pan\, Studio Foce\, Lugano\, Italie
GEO:46.0056179;8.961298800000009
X-APPLE-STRUCTURED-LOCATION;VALUE=URI;X-ADDRESS=Studio Foce\, Lugano\, Ital
 ie;X-APPLE-RADIUS=100;X-TITLE=Teatro Pan:geo:46.0056179,8.961298800000009
END:VEVENT
BEGIN:VTIMEZONE
TZID:Europe/Paris
X-LIC-LOCATION:Europe/Paris
BEGIN:DAYLIGHT
DTSTART:20170326T030000
TZOFFSETFROM:+0100
TZOFFSETTO:+0200
TZNAME:CEST
END:DAYLIGHT
END:VTIMEZONE
END:VCALENDAR