BEGIN:VCALENDAR
VERSION:2.0
PRODID:-//wp-events-plugin.com//7.2.3.1//EN
BEGIN:VEVENT
UID:357@16ruedeplaisance.org
DTSTART;TZID=Europe/Paris:20231027T100000
DTEND;TZID=Europe/Paris:20231027T141500
DTSTAMP:20231003T102451Z
URL:https://www.16ruedeplaisance.org/evenements/le-son-de-la-seve-theaterf
 est/
SUMMARY:Benoît Sicat - Le son de la sève THEATERFEST
DESCRIPTION:
ATTACH;FMTTYPE=image/jpeg:https://www.16ruedeplaisance.org/wp-content/uplo
 ads/2017/10/Avec-Jimmy-et-Pom-Pom.jpg
CATEGORIES:Benoit Sicat
LOCATION:Agora Theater\, Vennbahn Strasse 4\, St.Vith\, France
GEO:46.227638;2.213749
X-APPLE-STRUCTURED-LOCATION;VALUE=URI;X-ADDRESS=Vennbahn Strasse 4\, St.Vit
 h\, France;X-APPLE-RADIUS=100;X-TITLE=Agora Theater:geo:46.227638,2.213749
END:VEVENT
BEGIN:VTIMEZONE
TZID:Europe/Paris
X-LIC-LOCATION:Europe/Paris
BEGIN:DAYLIGHT
DTSTART:20230326T030000
TZOFFSETFROM:+0100
TZOFFSETTO:+0200
TZNAME:CEST
END:DAYLIGHT
END:VTIMEZONE
END:VCALENDAR