BEGIN:VCALENDAR
VERSION:2.0
PRODID:-//wp-events-plugin.com//7.2.3.1//EN
BEGIN:VEVENT
UID:13@16ruedeplaisance.org
DTSTART;TZID=Europe/Paris:20180415T134500
DTEND;TZID=Europe/Paris:20180415T181500
DTSTAMP:20180410T113638Z
URL:https://www.16ruedeplaisance.org/evenements/le-son-de-la-seve/
SUMMARY:Le Son de la Sève
DESCRIPTION:
ATTACH;FMTTYPE=image/jpeg:https://www.16ruedeplaisance.org/wp-content/uplo
 ads/2017/11/4-arbres-compressé.jpg
CATEGORIES:Benoit Sicat
LOCATION:les Cartoucheries- la Courrouze\, rue Claude Bernard\, Rennes\, 35
 000\, France
GEO:48.1025661;-1.6944862000000285
X-APPLE-STRUCTURED-LOCATION;VALUE=URI;X-ADDRESS=rue Claude Bernard\, Rennes
 \, 35000\, France;X-APPLE-RADIUS=100;X-TITLE=les Cartoucheries- la Courrou
 ze:geo:48.1025661,-1.6944862000000285
END:VEVENT
BEGIN:VTIMEZONE
TZID:Europe/Paris
X-LIC-LOCATION:Europe/Paris
BEGIN:DAYLIGHT
DTSTART:20180325T030000
TZOFFSETFROM:+0100
TZOFFSETTO:+0200
TZNAME:CEST
END:DAYLIGHT
END:VTIMEZONE
END:VCALENDAR