BEGIN:VCALENDAR
VERSION:2.0
PRODID:-//wp-events-plugin.com//7.2.3.1//EN
BEGIN:VEVENT
UID:263@16ruedeplaisance.org
DTSTART;TZID=Europe/Paris;VALUE=DATE:20210702
DTEND;TZID=Europe/Paris;VALUE=DATE:20210707
DTSTAMP:20210607T082733Z
URL:https://www.16ruedeplaisance.org/evenements/lecho-deole-2/
SUMMARY:L'Echo d'Eole
DESCRIPTION:Festival Starke Stücke
ATTACH;FMTTYPE=image/jpeg:https://www.16ruedeplaisance.org/wp-content/uplo
 ads/2021/06/LECHOdEOLE©Elodie-Guignard-2.jpg
CATEGORIES:Benoit Sicat
LOCATION:Theaterhaus Frankfurt\, Schützenstrasse 12\, Frankfurt Am Main\, 
 60311\, Allemagne
X-APPLE-STRUCTURED-LOCATION;VALUE=URI;X-ADDRESS=Schützenstrasse 12\, Frank
 furt Am Main\, 60311\, Allemagne;X-APPLE-RADIUS=100;X-TITLE=Theaterhaus Fr
 ankfurt:geo:0,0
END:VEVENT
BEGIN:VTIMEZONE
TZID:Europe/Paris
X-LIC-LOCATION:Europe/Paris
BEGIN:DAYLIGHT
DTSTART:20210328T030000
TZOFFSETFROM:+0100
TZOFFSETTO:+0200
TZNAME:CEST
END:DAYLIGHT
END:VTIMEZONE
END:VCALENDAR