BEGIN:VCALENDAR
VERSION:2.0
PRODID:-//wp-events-plugin.com//7.2.3.1//EN
BEGIN:VEVENT
UID:336@16ruedeplaisance.org
DTSTART;TZID=Europe/Paris;VALUE=DATE:20230520
DTEND;TZID=Europe/Paris;VALUE=DATE:20230521
DTSTAMP:20230509T085224Z
URL:https://www.16ruedeplaisance.org/evenements/lecho-deole-6/
SUMMARY:L'Echo d'Eole
DESCRIPTION:
ATTACH;FMTTYPE=image/jpeg:https://www.16ruedeplaisance.org/wp-content/uplo
 ads/2021/06/LECHOdEOLE©Elodie-Guignard-118.jpg
CATEGORIES:Benoit Sicat
LOCATION:Les jardins de Siloé\, 16 Brambéac\, Val d'Anast\, France
GEO:47.908991;-2.037321
X-APPLE-STRUCTURED-LOCATION;VALUE=URI;X-ADDRESS=16 Brambéac\, Val d'Anast\
 , France;X-APPLE-RADIUS=100;X-TITLE=Les jardins de Siloé:geo:47.908991,-2
 .037321
END:VEVENT
BEGIN:VTIMEZONE
TZID:Europe/Paris
X-LIC-LOCATION:Europe/Paris
BEGIN:DAYLIGHT
DTSTART:20230326T030000
TZOFFSETFROM:+0100
TZOFFSETTO:+0200
TZNAME:CEST
END:DAYLIGHT
END:VTIMEZONE
END:VCALENDAR