BEGIN:VCALENDAR
VERSION:2.0
PRODID:-//wp-events-plugin.com//7.2.3.1//EN
BEGIN:VEVENT
UID:254@16ruedeplaisance.org
DTSTART;TZID=Europe/Paris:20201003T100000
DTEND;TZID=Europe/Paris:20201004T173000
DTSTAMP:20200611T112920Z
URL:https://www.16ruedeplaisance.org/evenements/lecho-deole/
SUMMARY:L'Echo d'Eole
DESCRIPTION:FESTIVAL 1\,9\,3 Soleil!
ATTACH;FMTTYPE=image/jpeg:https://www.16ruedeplaisance.org/wp-content/uplo
 ads/2020/06/LEcho-dEole-1web.jpg
CATEGORIES:Benoit Sicat
LOCATION:Parc Jean Moulin Les guilands\, 11\, rue de l'Epine\, Bagnolet\, S
 eine-saint Denis\, 93170\, France
GEO:48.86389;2.425165
X-APPLE-STRUCTURED-LOCATION;VALUE=URI;X-ADDRESS=11\, rue de l'Epine\, Bagno
 let\, Seine-saint Denis\, 93170\, France;X-APPLE-RADIUS=100;X-TITLE=Parc J
 ean Moulin Les guilands:geo:48.86389,2.425165
END:VEVENT
BEGIN:VTIMEZONE
TZID:Europe/Paris
X-LIC-LOCATION:Europe/Paris
BEGIN:DAYLIGHT
DTSTART:20200329T030000
TZOFFSETFROM:+0100
TZOFFSETTO:+0200
TZNAME:CEST
END:DAYLIGHT
END:VTIMEZONE
END:VCALENDAR