BEGIN:VCALENDAR
VERSION:2.0
PRODID:-//wp-events-plugin.com//7.2.3.1//EN
BEGIN:VEVENT
UID:359@16ruedeplaisance.org
DTSTART;TZID=Europe/Paris:20231209T130000
DTEND;TZID=Europe/Paris:20231209T183000
DTSTAMP:20231003T102708Z
URL:https://www.16ruedeplaisance.org/evenements/lecon-de-la-seve/
SUMMARY:Benoît Sicat - Leçon de la sève au festival Tout Ouïe - Village
  Curieux
DESCRIPTION:Version inédite créée pour la Ferme du Buisson et son festiv
 al Tout Ouïe en mode visite musicale guidée avec Nicolas Camus.
ATTACH;FMTTYPE=image/jpeg:https://www.16ruedeplaisance.org/wp-content/uplo
 ads/2023/10/Nanterre-1.jpg
CATEGORIES:Benoit Sicat
LOCATION:La Ferme du Buisson\, Allée de la Ferme\, Noisiel\, France
GEO:48.844806;2.625028
X-APPLE-STRUCTURED-LOCATION;VALUE=URI;X-ADDRESS=Allée de la Ferme\, Noisie
 l\, France;X-APPLE-RADIUS=100;X-TITLE=La Ferme du Buisson:geo:48.844806,2.
 625028
END:VEVENT
BEGIN:VTIMEZONE
TZID:Europe/Paris
X-LIC-LOCATION:Europe/Paris
BEGIN:STANDARD
DTSTART:20231029T020000
TZOFFSETFROM:+0200
TZOFFSETTO:+0100
TZNAME:CET
END:STANDARD
END:VTIMEZONE
END:VCALENDAR