BEGIN:VCALENDAR
VERSION:2.0
PRODID:-//wp-events-plugin.com//7.2.3.1//EN
BEGIN:VEVENT
UID:234@16ruedeplaisance.org
DTSTART;TZID=Europe/Paris;VALUE=DATE:20200213
DTEND;TZID=Europe/Paris;VALUE=DATE:20200220
DTSTAMP:20200121T151705Z
URL:https://www.16ruedeplaisance.org/evenements/lenvers-du-jardin-residenc
 e-de-terrain-2/
SUMMARY:L'Envers du Jardin -résidence de terrain
DESCRIPTION:
ATTACH;FMTTYPE=image/jpeg:https://www.16ruedeplaisance.org/wp-content/uplo
 ads/2019/10/1-flyer-recto.jpg
CATEGORIES:L'Envers du Jardin,Les projets collectifs
LOCATION:Maison pour tous\, 6 quai du Plessis\, Pontivy\, 56300\, France
GEO:48.064621;-2.970151
X-APPLE-STRUCTURED-LOCATION;VALUE=URI;X-ADDRESS=6 quai du Plessis\, Pontivy
 \, 56300\, France;X-APPLE-RADIUS=100;X-TITLE=Maison pour tous:geo:48.06462
 1,-2.970151
END:VEVENT
BEGIN:VTIMEZONE
TZID:Europe/Paris
X-LIC-LOCATION:Europe/Paris
BEGIN:STANDARD
DTSTART:20191027T020000
TZOFFSETFROM:+0200
TZOFFSETTO:+0100
TZNAME:CET
END:STANDARD
END:VTIMEZONE
END:VCALENDAR