BEGIN:VCALENDAR
VERSION:2.0
PRODID:-//wp-events-plugin.com//7.2.3.1//EN
BEGIN:VEVENT
UID:22@16ruedeplaisance.org
DTSTART:20180608T180000Z
DTEND:20180608T210000Z
DTSTAMP:20180422T070358Z
URL:https://www.16ruedeplaisance.org/evenements/locutio-maniere-de-dire-ve
 rnissage/
SUMMARY:Locutio-Manière de dire - Vernissage
DESCRIPTION:
ATTACH;FMTTYPE=image/jpeg:https://www.16ruedeplaisance.org/wp-content/uplo
 ads/2018/04/Les-ambassadeurs.jpg
CATEGORIES:Gwenaëlle Rebillard
LOCATION:Orangerie du Thabor\, Parc du Thabor\, Rennes\, France
GEO:48.1143843;-1.6694938000000548
X-APPLE-STRUCTURED-LOCATION;VALUE=URI;X-ADDRESS=Parc du Thabor\, Rennes\, F
 rance;X-APPLE-RADIUS=100;X-TITLE=Orangerie du Thabor:geo:48.1143843,-1.669
 4938000000548
END:VEVENT
END:VCALENDAR