BEGIN:VCALENDAR
VERSION:2.0
PRODID:-//wp-events-plugin.com//7.2.3.1//EN
BEGIN:VEVENT
UID:214@16ruedeplaisance.org
DTSTART;TZID=Europe/Paris;VALUE=DATE:20200125
DTEND;TZID=Europe/Paris;VALUE=DATE:20200126
DTSTAMP:20190521T084924Z
URL:https://www.16ruedeplaisance.org/evenements/ma-place-a-table-13/
SUMMARY:Ma place à table
DESCRIPTION:
ATTACH;FMTTYPE=image/jpeg:https://www.16ruedeplaisance.org/wp-content/uplo
 ads/2018/12/Présentation-Frêres-Pavlov-Web-06.jpg
CATEGORIES:Les frères Pablof
LOCATION:Saison culturelle de Gouesnou\,  1 place des fusillés\, Gouesnou\
 , France
GEO:48.4513662;-4.4660979000000225
X-APPLE-STRUCTURED-LOCATION;VALUE=URI;X-ADDRESS= 1 place des fusillés\, Go
 uesnou\, France;X-APPLE-RADIUS=100;X-TITLE=Saison culturelle de Gouesnou:g
 eo:48.4513662,-4.4660979000000225
END:VEVENT
BEGIN:VTIMEZONE
TZID:Europe/Paris
X-LIC-LOCATION:Europe/Paris
BEGIN:STANDARD
DTSTART:20191027T020000
TZOFFSETFROM:+0200
TZOFFSETTO:+0100
TZNAME:CET
END:STANDARD
END:VTIMEZONE
END:VCALENDAR