BEGIN:VCALENDAR
VERSION:2.0
PRODID:-//wp-events-plugin.com//7.2.3.1//EN
BEGIN:VEVENT
UID:223@16ruedeplaisance.org
DTSTART;TZID=Europe/Paris;VALUE=DATE:20210626
DTEND;TZID=Europe/Paris;VALUE=DATE:20210627
DTSTAMP:20210614T112706Z
URL:https://www.16ruedeplaisance.org/evenements/ma-place-a-table-16/
SUMMARY:Ma place à table
DESCRIPTION:Pour réserver c'est ici
ATTACH;FMTTYPE=image/jpeg:https://www.16ruedeplaisance.org/wp-content/uplo
 ads/2018/12/Présentation-Frêres-Pavlov-Web-06.jpg
CATEGORIES:Les frères Pablof
LOCATION:Saison culturelle du Pays de Craon\,  \, Craon\, 53400\, France
GEO:47.84867000000001;-0.9496219999999767
X-APPLE-STRUCTURED-LOCATION;VALUE=URI;X-ADDRESS= \, Craon\, 53400\, France;
 X-APPLE-RADIUS=100;X-TITLE=Saison culturelle du Pays de Craon:geo:47.84867
 000000001,-0.9496219999999767
END:VEVENT
BEGIN:VTIMEZONE
TZID:Europe/Paris
X-LIC-LOCATION:Europe/Paris
BEGIN:DAYLIGHT
DTSTART:20210328T030000
TZOFFSETFROM:+0100
TZOFFSETTO:+0200
TZNAME:CEST
END:DAYLIGHT
END:VTIMEZONE
END:VCALENDAR