BEGIN:VCALENDAR
VERSION:2.0
PRODID:-//wp-events-plugin.com//7.2.3.1//EN
BEGIN:VEVENT
UID:229@16ruedeplaisance.org
DTSTART;TZID=Europe/Paris;VALUE=DATE:20200301
DTEND;TZID=Europe/Paris;VALUE=DATE:20200302
DTSTAMP:20200108T211209Z
URL:https://www.16ruedeplaisance.org/evenements/ma-place-a-table-17/
SUMMARY:Ma place à table
DESCRIPTION:Toutes les infos sont ICI
ATTACH;FMTTYPE=image/jpeg:https://www.16ruedeplaisance.org/wp-content/uplo
 ads/2018/12/Présentation-Frêres-Pavlov-Web-06.jpg
CATEGORIES:Les frères Pablof
LOCATION:Les poissons marcheurs\, Site de la courbe\, Bourg des comptes\, F
 rance
GEO:47.927708;-1.747235
X-APPLE-STRUCTURED-LOCATION;VALUE=URI;X-ADDRESS=Site de la courbe\, Bourg d
 es comptes\, France;X-APPLE-RADIUS=100;X-TITLE=Les poissons marcheurs:geo:
 47.927708,-1.747235
END:VEVENT
BEGIN:VTIMEZONE
TZID:Europe/Paris
X-LIC-LOCATION:Europe/Paris
BEGIN:STANDARD
DTSTART:20191027T020000
TZOFFSETFROM:+0200
TZOFFSETTO:+0100
TZNAME:CET
END:STANDARD
END:VTIMEZONE
END:VCALENDAR