BEGIN:VCALENDAR
VERSION:2.0
PRODID:-//wp-events-plugin.com//7.2.3.1//EN
BEGIN:VEVENT
UID:235@16ruedeplaisance.org
DTSTART;TZID=Europe/Paris;VALUE=DATE:20200919
DTEND;TZID=Europe/Paris;VALUE=DATE:20200921
DTSTAMP:20200519T072845Z
URL:https://www.16ruedeplaisance.org/evenements/ma-place-a-table-18/
SUMMARY:Ma place à table
DESCRIPTION:Ouverture de saison !
ATTACH;FMTTYPE=image/jpeg:https://www.16ruedeplaisance.org/wp-content/uplo
 ads/2018/12/Présentation-Frêres-Pavlov-Web-06.jpg
CATEGORIES:Les frères Pablof
LOCATION:Théâtre MASSALIA\, 41 Rue Jobin\, Marseille\, 13003\, France
GEO:43.311415;5.3903150999999525
X-APPLE-STRUCTURED-LOCATION;VALUE=URI;X-ADDRESS=41 Rue Jobin\, Marseille\, 
 13003\, France;X-APPLE-RADIUS=100;X-TITLE=Théâtre MASSALIA:geo:43.311415
 ,5.3903150999999525
END:VEVENT
BEGIN:VTIMEZONE
TZID:Europe/Paris
X-LIC-LOCATION:Europe/Paris
BEGIN:DAYLIGHT
DTSTART:20200329T030000
TZOFFSETFROM:+0100
TZOFFSETTO:+0200
TZNAME:CEST
END:DAYLIGHT
END:VTIMEZONE
END:VCALENDAR