BEGIN:VCALENDAR
VERSION:2.0
PRODID:-//wp-events-plugin.com//7.2.3.1//EN
BEGIN:VEVENT
UID:24@16ruedeplaisance.org
DTSTART:20180323T140000Z
DTEND:20180324T210000Z
DTSTAMP:20180504T133135Z
URL:https://www.16ruedeplaisance.org/evenements/ma-place-a-table-2/
SUMMARY:Ma place à table
DESCRIPTION:
ATTACH;FMTTYPE=image/jpeg:https://www.16ruedeplaisance.org/wp-content/uplo
 ads/2018/04/NAPPE4MPATnetlight.jpeg
CATEGORIES:Les frères Pablof
LOCATION:festival Méliscènes\, Place du Gohlérez\, Auray\, France
GEO:47.6656381;-2.989502000000016
X-APPLE-STRUCTURED-LOCATION;VALUE=URI;X-ADDRESS=Place du Gohlérez\, Auray\
 , France;X-APPLE-RADIUS=100;X-TITLE=festival Méliscènes:geo:47.6656381,-
 2.989502000000016
END:VEVENT
END:VCALENDAR