BEGIN:VCALENDAR
VERSION:2.0
PRODID:-//wp-events-plugin.com//7.2.3.1//EN
BEGIN:VEVENT
UID:282@16ruedeplaisance.org
DTSTART;TZID=Europe/Paris;VALUE=DATE:20220715
DTEND;TZID=Europe/Paris;VALUE=DATE:20220717
DTSTAMP:20220608T093526Z
URL:https://www.16ruedeplaisance.org/evenements/ma-place-a-table-23/
SUMMARY:Ma place à table / Recidives
DESCRIPTION:Nous jouerons à 11h 15h et 17h30 le 15 et 10h\, 14h et 17h le 
 16\, renseignements et réservations ici
ATTACH;FMTTYPE=image/jpeg:https://www.16ruedeplaisance.org/wp-content/uplo
 ads/2018/12/Présentation-Frêres-Pavlov-Web-06.jpg
CATEGORIES:Les frères Pablof
LOCATION:Festival Récidives\, Hotel de Ville\, Dives sur mer\, 14160\, Fra
 nce
GEO:49.2865756;-0.09973790000003646
X-APPLE-STRUCTURED-LOCATION;VALUE=URI;X-ADDRESS=Hotel de Ville\, Dives sur 
 mer\, 14160\, France;X-APPLE-RADIUS=100;X-TITLE=Festival Récidives:geo:49
 .2865756,-0.09973790000003646
END:VEVENT
BEGIN:VTIMEZONE
TZID:Europe/Paris
X-LIC-LOCATION:Europe/Paris
BEGIN:DAYLIGHT
DTSTART:20220327T030000
TZOFFSETFROM:+0100
TZOFFSETTO:+0200
TZNAME:CEST
END:DAYLIGHT
END:VTIMEZONE
END:VCALENDAR