BEGIN:VCALENDAR
VERSION:2.0
PRODID:-//wp-events-plugin.com//7.2.3.1//EN
BEGIN:VEVENT
UID:248@16ruedeplaisance.org
DTSTART;TZID=Europe/Paris;VALUE=DATE:20211119
DTEND;TZID=Europe/Paris;VALUE=DATE:20211122
DTSTAMP:20210903T084416Z
URL:https://www.16ruedeplaisance.org/evenements/ma-place-a-table-24/
SUMMARY:Ma place à table
DESCRIPTION:Les infos du festivals sont ici
ATTACH;FMTTYPE=image/jpeg:https://www.16ruedeplaisance.org/wp-content/uplo
 ads/2018/12/Présentation-Frêres-Pavlov-Web-06.jpg
CATEGORIES:Les frères Pablof
LOCATION:Festival Marionnettissimo\, Place de la Mairie\, Tournefeuille\, 3
 1170\, France
GEO:43.583109;1.345967
X-APPLE-STRUCTURED-LOCATION;VALUE=URI;X-ADDRESS=Place de la Mairie\, Tourne
 feuille\, 31170\, France;X-APPLE-RADIUS=100;X-TITLE=Festival Marionnettiss
 imo:geo:43.583109,1.345967
END:VEVENT
BEGIN:VTIMEZONE
TZID:Europe/Paris
X-LIC-LOCATION:Europe/Paris
BEGIN:STANDARD
DTSTART:20211031T020000
TZOFFSETFROM:+0200
TZOFFSETTO:+0100
TZNAME:CET
END:STANDARD
END:VTIMEZONE
END:VCALENDAR