BEGIN:VCALENDAR
VERSION:2.0
PRODID:-//wp-events-plugin.com//7.2.3.1//EN
BEGIN:VEVENT
UID:249@16ruedeplaisance.org
DTSTART;TZID=Europe/Paris;VALUE=DATE:20230202
DTEND;TZID=Europe/Paris;VALUE=DATE:20230203
DTSTAMP:20220602T070543Z
URL:https://www.16ruedeplaisance.org/evenements/ma-place-a-table-25/
SUMMARY:Ma place à table
DESCRIPTION:
ATTACH;FMTTYPE=image/jpeg:https://www.16ruedeplaisance.org/wp-content/uplo
 ads/2018/12/Présentation-Frêres-Pavlov-Web-06.jpg
CATEGORIES:Les frères Pablof
LOCATION:La barbacane\, Place du 8 Mai 1945\, Beynes\, 78650 \, France
GEO:48.855911;1.875318
X-APPLE-STRUCTURED-LOCATION;VALUE=URI;X-ADDRESS=Place du 8 Mai 1945\, Beyne
 s\, 78650 \, France;X-APPLE-RADIUS=100;X-TITLE=La barbacane:geo:48.855911,
 1.875318
END:VEVENT
BEGIN:VTIMEZONE
TZID:Europe/Paris
X-LIC-LOCATION:Europe/Paris
BEGIN:STANDARD
DTSTART:20221030T020000
TZOFFSETFROM:+0200
TZOFFSETTO:+0100
TZNAME:CET
END:STANDARD
END:VTIMEZONE
END:VCALENDAR