BEGIN:VCALENDAR
VERSION:2.0
PRODID:-//wp-events-plugin.com//7.2.3.1//EN
BEGIN:VEVENT
UID:250@16ruedeplaisance.org
DTSTART;TZID=Europe/Paris:20210603T174500
DTEND;TZID=Europe/Paris:20210603T183000
DTSTAMP:20210525T194920Z
URL:https://www.16ruedeplaisance.org/evenements/ma-place-a-table-26/
SUMMARY:Ma place à table
DESCRIPTION:réservation : ICI\n\n&nbsp\;
ATTACH;FMTTYPE=image/jpeg:https://www.16ruedeplaisance.org/wp-content/uplo
 ads/2018/12/Présentation-Frêres-Pavlov-Web-06.jpg
CATEGORIES:Les frères Pablof
LOCATION:Théâtre du cercle\, 30 bis rue de Paris\, Rennes cedex 7\, 35704
  \, France
GEO:48.112365;-1.66729
X-APPLE-STRUCTURED-LOCATION;VALUE=URI;X-ADDRESS=30 bis rue de Paris\, Renne
 s cedex 7\, 35704 \, France;X-APPLE-RADIUS=100;X-TITLE=Théâtre du cercle
 :geo:48.112365,-1.66729
END:VEVENT
BEGIN:VTIMEZONE
TZID:Europe/Paris
X-LIC-LOCATION:Europe/Paris
BEGIN:DAYLIGHT
DTSTART:20210328T030000
TZOFFSETFROM:+0100
TZOFFSETTO:+0200
TZNAME:CEST
END:DAYLIGHT
END:VTIMEZONE
END:VCALENDAR