BEGIN:VCALENDAR
VERSION:2.0
PRODID:-//wp-events-plugin.com//7.2.3.1//EN
BEGIN:VEVENT
UID:257@16ruedeplaisance.org
DTSTART;TZID=Europe/Paris;VALUE=DATE:20211125
DTEND;TZID=Europe/Paris;VALUE=DATE:20211127
DTSTAMP:20211027T202939Z
URL:https://www.16ruedeplaisance.org/evenements/ma-place-a-table-27/
SUMMARY:Ma place à table
DESCRIPTION:Toutes les infos pratiques sont par ici
ATTACH;FMTTYPE=image/jpeg:https://www.16ruedeplaisance.org/wp-content/uplo
 ads/2018/12/Présentation-Frêres-Pavlov-Web-06.jpg
CATEGORIES:Les frères Pablof
LOCATION:Espace Jeliotte\, Rue de la Poste\, Oloron Sainte Marie\, 64400\, 
 France
GEO:43.19086350000001;-0.610464200000024
X-APPLE-STRUCTURED-LOCATION;VALUE=URI;X-ADDRESS=Rue de la Poste\, Oloron Sa
 inte Marie\, 64400\, France;X-APPLE-RADIUS=100;X-TITLE=Espace Jeliotte:geo
 :43.19086350000001,-0.610464200000024
END:VEVENT
BEGIN:VTIMEZONE
TZID:Europe/Paris
X-LIC-LOCATION:Europe/Paris
BEGIN:STANDARD
DTSTART:20211031T020000
TZOFFSETFROM:+0200
TZOFFSETTO:+0100
TZNAME:CET
END:STANDARD
END:VTIMEZONE
END:VCALENDAR