BEGIN:VCALENDAR
VERSION:2.0
PRODID:-//wp-events-plugin.com//7.2.3.1//EN
BEGIN:VEVENT
UID:260@16ruedeplaisance.org
DTSTART;TZID=Europe/Paris;VALUE=DATE:20211128
DTEND;TZID=Europe/Paris;VALUE=DATE:20211129
DTSTAMP:20210503T111402Z
URL:https://www.16ruedeplaisance.org/evenements/ma-place-a-table-28/
SUMMARY:Ma place à table
DESCRIPTION:
ATTACH;FMTTYPE=image/jpeg:https://www.16ruedeplaisance.org/wp-content/uplo
 ads/2018/12/Présentation-Frêres-Pavlov-Web-06.jpg
CATEGORIES:Les frères Pablof
LOCATION:Festival Théatre en val d'Oise\, Hôtel de Mézières\, 14 avenue
  de l’Europe\,  Eaubonne\, 95600\, France
GEO:48.991332;2.276505
X-APPLE-STRUCTURED-LOCATION;VALUE=URI;X-ADDRESS=Hôtel de Mézières\, 14 a
 venue de l’Europe\,  Eaubonne\, 95600\, France;X-APPLE-RADIUS=100;X-TITL
 E=Festival Théatre en val d'Oise:geo:48.991332,2.276505
END:VEVENT
BEGIN:VTIMEZONE
TZID:Europe/Paris
X-LIC-LOCATION:Europe/Paris
BEGIN:STANDARD
DTSTART:20211031T020000
TZOFFSETFROM:+0200
TZOFFSETTO:+0100
TZNAME:CET
END:STANDARD
END:VTIMEZONE
END:VCALENDAR