BEGIN:VCALENDAR
VERSION:2.0
PRODID:-//wp-events-plugin.com//7.2.3.1//EN
BEGIN:VEVENT
UID:261@16ruedeplaisance.org
DTSTART;TZID=Europe/Paris;VALUE=DATE:20210911
DTEND;TZID=Europe/Paris;VALUE=DATE:20210912
DTSTAMP:20210822T094827Z
URL:https://www.16ruedeplaisance.org/evenements/ma-place-a-table-29/
SUMMARY:Ma place à table
DESCRIPTION:Journée avec l'ALI\n\n"rencontre avec un artiste"\n\nJournée 
 d'échange et de discussion autour du spectacle "ma place à table"\n\n\n\
 n\n\nCe spectacle ouvre et stimule le questionnement psychanalytique autou
 r de la place\, de la famille\, et des dispositifs auprès d’enfants et 
 d’adolescents.\nLes Frères Pablof nous invitent à migrer dans le champ
  du Symbolique et à ré-interroger ce qui au fond fait famille.\n\nNous s
 erons accompagnés pour ce travail par Sandrine Calmettes\, psychanalyste\
 , membre de l’ALI à Paris.\n\n\n\n\n\nTarif pour la journée (spectacle
  et discussion) : 35 euros Possibilité de repas : 15€ (réservation obl
 igatoire)\nLe nombre de places étant limité il est nécessaire de s’in
 scrire.\n\n\n\n\n\n\n\nInscriptions jusqu’au 4 septembre 2021\n\n\n\n\nC
 ontact / inscriptions\n\nCatherine Gélineau catherinegelineau@orange.fr 0
 6.72.41.48.62\n\n\n\n\n\n« Rencontre Cité Psychanalyse » est un groupe 
 de psychanalystes\nmettant au travail les questions qui se posent dans la 
 Cité avec ceux qui la font vivre.\n\n\n\n\n\n\n\n\n\n\n\n\n\n(association
  lacanienne internationale)
ATTACH;FMTTYPE=image/jpeg:https://www.16ruedeplaisance.org/wp-content/uplo
 ads/2018/12/Présentation-Frêres-Pavlov-Web-06.jpg
CATEGORIES:Les frères Pablof
LOCATION:Au bout du plongeoir\, Manoir de Tizé\, Thorigné Fopuillard\, Br
 etagne\, 35\, France
X-APPLE-STRUCTURED-LOCATION;VALUE=URI;X-ADDRESS=Manoir de Tizé\, Thorigné
  Fopuillard\, Bretagne\, 35\, France;X-APPLE-RADIUS=100;X-TITLE=Au bout du
  plongeoir:geo:0,0
END:VEVENT
BEGIN:VTIMEZONE
TZID:Europe/Paris
X-LIC-LOCATION:Europe/Paris
BEGIN:DAYLIGHT
DTSTART:20210328T030000
TZOFFSETFROM:+0100
TZOFFSETTO:+0200
TZNAME:CEST
END:DAYLIGHT
END:VTIMEZONE
END:VCALENDAR