BEGIN:VCALENDAR
VERSION:2.0
PRODID:-//wp-events-plugin.com//7.2.3.1//EN
BEGIN:VEVENT
UID:180@16ruedeplaisance.org
DTSTART;TZID=Europe/Paris:20181215T080000
DTEND;TZID=Europe/Paris:20181215T230000
DTSTAMP:20181129T080632Z
URL:https://www.16ruedeplaisance.org/evenements/ma-place-a-table-3/
SUMMARY:Ma place à table
DESCRIPTION:Nous jouerons au rythme de la ferme\, à 8h - 10h30 - 14h30 - 1
 7h.\nhttps://mirelaridaine.wixsite.com/lesbanquets/ma-place-a-table\n\n&nb
 sp\;
ATTACH;FMTTYPE=image/jpeg:https://www.16ruedeplaisance.org/wp-content/uplo
 ads/2018/06/Présentation-Frêres-Pavlov-Web-35.jpg
CATEGORIES:Les frères Pablof
LOCATION:La biclounerie\, Ferme de la touche du val\,  Noyal sur Vilaine\, 
 35530\, France
GEO:48.1215972;-1.5403562000000193
X-APPLE-STRUCTURED-LOCATION;VALUE=URI;X-ADDRESS=Ferme de la touche du val\,
   Noyal sur Vilaine\, 35530\, France;X-APPLE-RADIUS=100;X-TITLE=La bicloun
 erie:geo:48.1215972,-1.5403562000000193
END:VEVENT
BEGIN:VTIMEZONE
TZID:Europe/Paris
X-LIC-LOCATION:Europe/Paris
BEGIN:STANDARD
DTSTART:20181028T020000
TZOFFSETFROM:+0200
TZOFFSETTO:+0100
TZNAME:CET
END:STANDARD
END:VTIMEZONE
END:VCALENDAR