BEGIN:VCALENDAR
VERSION:2.0
PRODID:-//wp-events-plugin.com//7.2.3.1//EN
BEGIN:VEVENT
UID:262@16ruedeplaisance.org
DTSTART;TZID=Europe/Paris;VALUE=DATE:20211017
DTEND;TZID=Europe/Paris;VALUE=DATE:20211020
DTSTAMP:20211011T072510Z
URL:https://www.16ruedeplaisance.org/evenements/ma-place-a-table-30/
SUMMARY:Ma place à table
DESCRIPTION:Saint Nazaire avec la CIE Nina la Gaine\n\nLe 17 à17h30 chez u
 n habitant\n\nLe 18 à 10h et 14h30 lycée Broisseau Blanchot\n\nLe 19 18h
 30 Maison de quartier Avalix\n\n&nbsp\;
ATTACH;FMTTYPE=image/jpeg:https://www.16ruedeplaisance.org/wp-content/uplo
 ads/2018/12/Présentation-Frêres-Pavlov-Web-06.jpg
CATEGORIES:Les frères Pablof
END:VEVENT
BEGIN:VTIMEZONE
TZID:Europe/Paris
X-LIC-LOCATION:Europe/Paris
BEGIN:DAYLIGHT
DTSTART:20210328T030000
TZOFFSETFROM:+0100
TZOFFSETTO:+0200
TZNAME:CEST
END:DAYLIGHT
END:VTIMEZONE
END:VCALENDAR