BEGIN:VCALENDAR
VERSION:2.0
PRODID:-//wp-events-plugin.com//7.2.3.1//EN
BEGIN:VEVENT
UID:266@16ruedeplaisance.org
DTSTART;TZID=Europe/Paris;VALUE=DATE:20210828
DTEND;TZID=Europe/Paris;VALUE=DATE:20210829
DTSTAMP:20210822T091944Z
URL:https://www.16ruedeplaisance.org/evenements/ma-place-a-table-31/
SUMMARY:Ma place à table
DESCRIPTION:inauguration du collectif la basse cour\,\n\nChemin Robert de B
 oron\nLa Prévalaye\n\n35000 Rennes\n\nNous jouons à 15h-17h-18h30\n\nInf
 ormation ici
ATTACH;FMTTYPE=image/jpeg:https://www.16ruedeplaisance.org/wp-content/uplo
 ads/2018/12/Présentation-Frêres-Pavlov-Web-06.jpg
CATEGORIES:Les frères Pablof
LOCATION:Collectif la Basse cour\, Chemin Robert de Boron La Prévalaye\, R
 ENNES\, 35000\, France
X-APPLE-STRUCTURED-LOCATION;VALUE=URI;X-ADDRESS=Chemin Robert de Boron La P
 révalaye\, RENNES\, 35000\, France;X-APPLE-RADIUS=100;X-TITLE=Collectif l
 a Basse cour:geo:0,0
END:VEVENT
BEGIN:VTIMEZONE
TZID:Europe/Paris
X-LIC-LOCATION:Europe/Paris
BEGIN:DAYLIGHT
DTSTART:20210328T030000
TZOFFSETFROM:+0100
TZOFFSETTO:+0200
TZNAME:CEST
END:DAYLIGHT
END:VTIMEZONE
END:VCALENDAR