BEGIN:VCALENDAR
VERSION:2.0
PRODID:-//wp-events-plugin.com//7.2.3.1//EN
BEGIN:VEVENT
UID:277@16ruedeplaisance.org
DTSTART;TZID=Europe/Paris;VALUE=DATE:20220402
DTEND;TZID=Europe/Paris;VALUE=DATE:20220403
DTSTAMP:20220321T143607Z
URL:https://www.16ruedeplaisance.org/evenements/ma-place-a-table-32/
SUMMARY:Ma place à table et Le Grand Saut
DESCRIPTION:Nous jouerons 4 fois entre 10h et 18h réservation ici \n\net 
 là\n\n&nbsp\;
ATTACH;FMTTYPE=image/jpeg:https://www.16ruedeplaisance.org/wp-content/uplo
 ads/2018/12/Présentation-Frêres-Pavlov-Web-06.jpg
CATEGORIES:Les frères Pablof
LOCATION:Festival Le  Grand Dire - la maison du conte\, 8\, rue Albert Thur
 et\, Chevilly-Larue\, 94550\, France
GEO:48.772839;2.337032
X-APPLE-STRUCTURED-LOCATION;VALUE=URI;X-ADDRESS=8\, rue Albert Thuret\, Che
 villy-Larue\, 94550\, France;X-APPLE-RADIUS=100;X-TITLE=Festival Le  Grand
  Dire - la maison du conte:geo:48.772839,2.337032
END:VEVENT
BEGIN:VTIMEZONE
TZID:Europe/Paris
X-LIC-LOCATION:Europe/Paris
BEGIN:DAYLIGHT
DTSTART:20220327T030000
TZOFFSETFROM:+0100
TZOFFSETTO:+0200
TZNAME:CEST
END:DAYLIGHT
END:VTIMEZONE
END:VCALENDAR