BEGIN:VCALENDAR
VERSION:2.0
PRODID:-//wp-events-plugin.com//7.2.3.1//EN
BEGIN:VEVENT
UID:286@16ruedeplaisance.org
DTSTART;TZID=Europe/Paris;VALUE=DATE:20221108
DTEND;TZID=Europe/Paris;VALUE=DATE:20221109
DTSTAMP:20221010T195335Z
URL:https://www.16ruedeplaisance.org/evenements/ma-place-a-table-34/
SUMMARY:Ma place à table
DESCRIPTION:Nous jouerons au resto du coeur ici
ATTACH;FMTTYPE=image/jpeg:https://www.16ruedeplaisance.org/wp-content/uplo
 ads/2018/12/Présentation-Frêres-Pavlov-Web-06.jpg
CATEGORIES:Les frères Pablof
LOCATION:L'avant-Scène\, Avenue Villebois Mareuil\, Montfort sur Meu\, Fra
 nce
GEO:48.141189;-1.960022
X-APPLE-STRUCTURED-LOCATION;VALUE=URI;X-ADDRESS=Avenue Villebois Mareuil\, 
 Montfort sur Meu\, France;X-APPLE-RADIUS=100;X-TITLE=L'avant-Scène:geo:48
 .141189,-1.960022
END:VEVENT
BEGIN:VTIMEZONE
TZID:Europe/Paris
X-LIC-LOCATION:Europe/Paris
BEGIN:STANDARD
DTSTART:20221030T020000
TZOFFSETFROM:+0200
TZOFFSETTO:+0100
TZNAME:CET
END:STANDARD
END:VTIMEZONE
END:VCALENDAR