BEGIN:VCALENDAR
VERSION:2.0
PRODID:-//wp-events-plugin.com//7.2.3.1//EN
BEGIN:VEVENT
UID:287@16ruedeplaisance.org
DTSTART;TZID=Europe/Paris;VALUE=DATE:20230330
DTEND;TZID=Europe/Paris;VALUE=DATE:20230404
DTSTAMP:20220608T081600Z
URL:https://www.16ruedeplaisance.org/evenements/ma-place-a-table-35/
SUMMARY:Ma place à table
DESCRIPTION:
ATTACH;FMTTYPE=image/jpeg:https://www.16ruedeplaisance.org/wp-content/uplo
 ads/2018/12/Présentation-Frêres-Pavlov-Web-06.jpg
CATEGORIES:Les frères Pablof
LOCATION:Decazeville communauté\, Mairie\, Decazeville\, France
GEO:44.556401;2.257287
X-APPLE-STRUCTURED-LOCATION;VALUE=URI;X-ADDRESS=Mairie\, Decazeville\, Fran
 ce;X-APPLE-RADIUS=100;X-TITLE=Decazeville communauté:geo:44.556401,2.2572
 87
END:VEVENT
BEGIN:VTIMEZONE
TZID:Europe/Paris
X-LIC-LOCATION:Europe/Paris
BEGIN:DAYLIGHT
DTSTART:20230326T030000
TZOFFSETFROM:+0100
TZOFFSETTO:+0200
TZNAME:CEST
END:DAYLIGHT
END:VTIMEZONE
END:VCALENDAR