BEGIN:VCALENDAR
VERSION:2.0
PRODID:-//wp-events-plugin.com//7.2.3.1//EN
BEGIN:VEVENT
UID:317@16ruedeplaisance.org
DTSTART;TZID=Europe/Paris;VALUE=DATE:20230325
DTEND;TZID=Europe/Paris;VALUE=DATE:20230326
DTSTAMP:20221010T194429Z
URL:https://www.16ruedeplaisance.org/evenements/ma-place-a-table-37/
SUMMARY:Ma place à table
DESCRIPTION:Information Ici
ATTACH;FMTTYPE=image/jpeg:https://www.16ruedeplaisance.org/wp-content/uplo
 ads/2018/12/Présentation-Frêres-Pavlov-Web-06.jpg
CATEGORIES:Les frères Pablof
LOCATION:L@ bibliothèque Espace Senghor\, Rue de Hambühren\, Verson\, Fra
 nce
GEO:49.15595;-0.45177
X-APPLE-STRUCTURED-LOCATION;VALUE=URI;X-ADDRESS=Rue de Hambühren\, Verson\
 , France;X-APPLE-RADIUS=100;X-TITLE=L@ bibliothèque Espace Senghor:geo:49
 .15595,-0.45177
END:VEVENT
BEGIN:VTIMEZONE
TZID:Europe/Paris
X-LIC-LOCATION:Europe/Paris
BEGIN:STANDARD
DTSTART:20221030T020000
TZOFFSETFROM:+0200
TZOFFSETTO:+0100
TZNAME:CET
END:STANDARD
END:VTIMEZONE
END:VCALENDAR