BEGIN:VCALENDAR
VERSION:2.0
PRODID:-//wp-events-plugin.com//7.2.3.1//EN
BEGIN:VEVENT
UID:291@16ruedeplaisance.org
DTSTART;TZID=Europe/Paris;VALUE=DATE:20221214
DTEND;TZID=Europe/Paris;VALUE=DATE:20221215
DTSTAMP:20221208T091241Z
URL:https://www.16ruedeplaisance.org/evenements/ma-place-a-table-38/
SUMMARY:Ma place à table
DESCRIPTION:Attention nous ne jouons pas à la médiathèque mais au centre
  social Germaine Tillion. Toutes les infos pratiques ici
ATTACH;FMTTYPE=image/jpeg:https://www.16ruedeplaisance.org/wp-content/uplo
 ads/2018/12/Présentation-Frêres-Pavlov-Web-06.jpg
CATEGORIES:Les frères Pablof
LOCATION:Le Kremlin Bicètre / Service culturel / Bibliothèque\, 53 Av. de
  Fontainebleau\, Le Kremlin Bicètre\, 94270\, France
GEO:48.8127;2.361755
X-APPLE-STRUCTURED-LOCATION;VALUE=URI;X-ADDRESS=53 Av. de Fontainebleau\, L
 e Kremlin Bicètre\, 94270\, France;X-APPLE-RADIUS=100;X-TITLE=Le Kremlin 
 Bicètre / Service culturel / Bibliothèque:geo:48.8127,2.361755
END:VEVENT
BEGIN:VTIMEZONE
TZID:Europe/Paris
X-LIC-LOCATION:Europe/Paris
BEGIN:STANDARD
DTSTART:20221030T020000
TZOFFSETFROM:+0200
TZOFFSETTO:+0100
TZNAME:CET
END:STANDARD
END:VTIMEZONE
END:VCALENDAR