BEGIN:VCALENDAR
VERSION:2.0
PRODID:-//wp-events-plugin.com//7.2.3.1//EN
BEGIN:VEVENT
UID:306@16ruedeplaisance.org
DTSTART;TZID=Europe/Paris;VALUE=DATE:20221014
DTEND;TZID=Europe/Paris;VALUE=DATE:20221015
DTSTAMP:20221010T184459Z
URL:https://www.16ruedeplaisance.org/evenements/ma-place-a-table-39/
SUMMARY:Ma place à table / Rumeurs Urbaines
DESCRIPTION:15h-18h -20h espace Nelson Mandela\n\nReservation :  ici
ATTACH;FMTTYPE=image/jpeg:https://www.16ruedeplaisance.org/wp-content/uplo
 ads/2018/12/Présentation-Frêres-Pavlov-Web-06.jpg
CATEGORIES:Les frères Pablof
LOCATION:Festival Rumeurs Urbaines / Cie le temps de vivre\, 20 avenue Chan
 don\, Genevilliers\, France
GEO:48.922986;2.297525
X-APPLE-STRUCTURED-LOCATION;VALUE=URI;X-ADDRESS=20 avenue Chandon\, Genevil
 liers\, France;X-APPLE-RADIUS=100;X-TITLE=Festival Rumeurs Urbaines / Cie 
 le temps de vivre:geo:48.922986,2.297525
END:VEVENT
BEGIN:VTIMEZONE
TZID:Europe/Paris
X-LIC-LOCATION:Europe/Paris
BEGIN:DAYLIGHT
DTSTART:20220327T030000
TZOFFSETFROM:+0100
TZOFFSETTO:+0200
TZNAME:CEST
END:DAYLIGHT
END:VTIMEZONE
END:VCALENDAR